BEGIN:VCALENDAR
VERSION:2.0
PRODID:-//Sky Blue Designs, LLC - ECPv6.15.20//NONSGML v1.0//EN
CALSCALE:GREGORIAN
METHOD:PUBLISH
X-WR-CALNAME:Sky Blue Designs, LLC
X-ORIGINAL-URL:https://www.skybluedesigns.com
X-WR-CALDESC:Events for Sky Blue Designs, LLC
REFRESH-INTERVAL;VALUE=DURATION:PT1H
X-Robots-Tag:noindex
X-PUBLISHED-TTL:PT1H
BEGIN:VTIMEZONE
TZID:America/New_York
BEGIN:DAYLIGHT
TZOFFSETFROM:-0500
TZOFFSETTO:-0400
TZNAME:EDT
DTSTART:20230312T070000
END:DAYLIGHT
BEGIN:STANDARD
TZOFFSETFROM:-0400
TZOFFSETTO:-0500
TZNAME:EST
DTSTART:20231105T060000
END:STANDARD
BEGIN:DAYLIGHT
TZOFFSETFROM:-0500
TZOFFSETTO:-0400
TZNAME:EDT
DTSTART:20240310T070000
END:DAYLIGHT
BEGIN:STANDARD
TZOFFSETFROM:-0400
TZOFFSETTO:-0500
TZNAME:EST
DTSTART:20241103T060000
END:STANDARD
BEGIN:DAYLIGHT
TZOFFSETFROM:-0500
TZOFFSETTO:-0400
TZNAME:EDT
DTSTART:20250309T070000
END:DAYLIGHT
BEGIN:STANDARD
TZOFFSETFROM:-0400
TZOFFSETTO:-0500
TZNAME:EST
DTSTART:20251102T060000
END:STANDARD
END:VTIMEZONE
BEGIN:VEVENT
DTSTART;TZID=America/New_York:20240602T113000
DTEND;TZID=America/New_York:20240602T160000
DTSTAMP:20260423T043418
CREATED:20240513T180909Z
LAST-MODIFIED:20240513T184409Z
UID:5665-1717327800-1717344000@www.skybluedesigns.com
SUMMARY:Brookfield Spring into Summer Block Party
DESCRIPTION:Join us on Sunday\, June 2 from 11:30 am to 4:00 pm on Old Route 7 for vendors\, live music\, food & drink\, arts & crafts\, fun & games\, performing arts\, and more. Parking available throughout the Town Center District. Sky Blue Designs will have our full collection of fun and fashionable handmade beaded jewelry.
URL:https://www.skybluedesigns.com/event/brookfield-spring-into-summer-block-party-2024/
LOCATION:Old Route 7 Between Hwy 202 (Federal Rd.) and Laurel Hill Rd. in Brookfield\, Hwy. 202 and Old Rte. 7\, Brookfield\, CT\, 06804\, United States
CATEGORIES:Outdoor Festival
ATTACH;FMTTYPE=image/jpeg:https://www.skybluedesigns.com/wp-content/uploads/2024/05/Brookfield-Block-Party-Horizontal.jpg
END:VEVENT
END:VCALENDAR