BEGIN:VCALENDAR
VERSION:2.0
PRODID:-//Sky Blue Designs, LLC - ECPv6.15.20//NONSGML v1.0//EN
CALSCALE:GREGORIAN
METHOD:PUBLISH
X-WR-CALNAME:Sky Blue Designs, LLC
X-ORIGINAL-URL:https://www.skybluedesigns.com
X-WR-CALDESC:Events for Sky Blue Designs, LLC
REFRESH-INTERVAL;VALUE=DURATION:PT1H
X-Robots-Tag:noindex
X-PUBLISHED-TTL:PT1H
BEGIN:VTIMEZONE
TZID:America/New_York
BEGIN:DAYLIGHT
TZOFFSETFROM:-0500
TZOFFSETTO:-0400
TZNAME:EDT
DTSTART:20230312T070000
END:DAYLIGHT
BEGIN:STANDARD
TZOFFSETFROM:-0400
TZOFFSETTO:-0500
TZNAME:EST
DTSTART:20231105T060000
END:STANDARD
BEGIN:DAYLIGHT
TZOFFSETFROM:-0500
TZOFFSETTO:-0400
TZNAME:EDT
DTSTART:20240310T070000
END:DAYLIGHT
BEGIN:STANDARD
TZOFFSETFROM:-0400
TZOFFSETTO:-0500
TZNAME:EST
DTSTART:20241103T060000
END:STANDARD
BEGIN:DAYLIGHT
TZOFFSETFROM:-0500
TZOFFSETTO:-0400
TZNAME:EDT
DTSTART:20250309T070000
END:DAYLIGHT
BEGIN:STANDARD
TZOFFSETFROM:-0400
TZOFFSETTO:-0500
TZNAME:EST
DTSTART:20251102T060000
END:STANDARD
END:VTIMEZONE
BEGIN:VEVENT
DTSTART;TZID=America/New_York:20240615T100000
DTEND;TZID=America/New_York:20240615T170000
DTSTAMP:20260423T043504
CREATED:20240206T211514Z
LAST-MODIFIED:20240206T211514Z
UID:5502-1718445600-1718470800@www.skybluedesigns.com
SUMMARY:52nd Monroe Congregational Church Strawberry Festival (Day 1)
DESCRIPTION:The Monroe Congregational Church celebrates their wonderful Strawberry Festival in Monroe for the 52nd time. Sky Blue Designs will sell our handmade beaded jewelry — including strawberry necklaces and earrings — on the Monroe Green Saturday\, June 15 from 10 AM – 5 PM and Sunday\, June 16 from noon – 5 PM. (We try to be there by 10 AM Sunday.) \nEnjoy strawberry shortcake\, jam\, strawberry pies\, dipped berries\, and smoothies. Over 90 Juried crafters & artisans will present their wares. Live music and food trucks round out the festival.
URL:https://www.skybluedesigns.com/event/52nd-monroe-congregational-church-strawberry-festival-day-1/
LOCATION:Monroe Green\, 175 Old Tannery Rd.\, Monroe\, CT\, 06468\, United States
CATEGORIES:Outdoor Festival
ATTACH;FMTTYPE=image/jpeg:https://www.skybluedesigns.com/wp-content/uploads/2024/02/Monroe-Congregational-Church-52nd-Strawberry-Festival-Saturday-June-17-2023-10-am-5-pm-Sunday-June-18-2023-12-noon-5-pm-on-the-Monroe-Green.jpg
END:VEVENT
END:VCALENDAR