BEGIN:VCALENDAR
VERSION:2.0
PRODID:-//Sky Blue Designs, LLC - ECPv6.15.20//NONSGML v1.0//EN
CALSCALE:GREGORIAN
METHOD:PUBLISH
X-WR-CALNAME:Sky Blue Designs, LLC
X-ORIGINAL-URL:https://www.skybluedesigns.com
X-WR-CALDESC:Events for Sky Blue Designs, LLC
REFRESH-INTERVAL;VALUE=DURATION:PT1H
X-Robots-Tag:noindex
X-PUBLISHED-TTL:PT1H
BEGIN:VTIMEZONE
TZID:America/New_York
BEGIN:DAYLIGHT
TZOFFSETFROM:-0500
TZOFFSETTO:-0400
TZNAME:EDT
DTSTART:20240310T070000
END:DAYLIGHT
BEGIN:STANDARD
TZOFFSETFROM:-0400
TZOFFSETTO:-0500
TZNAME:EST
DTSTART:20241103T060000
END:STANDARD
BEGIN:DAYLIGHT
TZOFFSETFROM:-0500
TZOFFSETTO:-0400
TZNAME:EDT
DTSTART:20250309T070000
END:DAYLIGHT
BEGIN:STANDARD
TZOFFSETFROM:-0400
TZOFFSETTO:-0500
TZNAME:EST
DTSTART:20251102T060000
END:STANDARD
BEGIN:DAYLIGHT
TZOFFSETFROM:-0500
TZOFFSETTO:-0400
TZNAME:EDT
DTSTART:20260308T070000
END:DAYLIGHT
BEGIN:STANDARD
TZOFFSETFROM:-0400
TZOFFSETTO:-0500
TZNAME:EST
DTSTART:20261101T060000
END:STANDARD
END:VTIMEZONE
BEGIN:VEVENT
DTSTART;TZID=America/New_York:20250510T100000
DTEND;TZID=America/New_York:20250510T170000
DTSTAMP:20260425T102639
CREATED:20250209T014048Z
LAST-MODIFIED:20250209T014048Z
UID:6102-1746871200-1746896400@www.skybluedesigns.com
SUMMARY:Greenfield Hill Dogwood Festival (Day 1)
DESCRIPTION:Sky Blue Designs will celebrate the Greenfield Hill Dogwood Festival May 11-12\, 2024. We will join Over 50 New England vendors offering our beautiful and fun handmade beaded jewelry along with accessories\, hand crafted furniture\, photography\, garden items\, artisan foods\, and so much more! Other featured events include children’s crafts and games\, live music\, Dogwood Mini Dash\, Blossom Café\, Blossom Bakery and Coffee Shop\, food truck farm\, The Potting Shed\, blessing of the animals\, and guided walking history tours.
URL:https://www.skybluedesigns.com/event/greenfield-hill-dogwood-festival-2025-day-1/
LOCATION:Greenfield Hill Congregational Church\, 1045 Old Academy Rd.\, Fairfield\, CT\, 06824\, United States
CATEGORIES:Outdoor Festival
ATTACH;FMTTYPE=image/jpeg:https://www.skybluedesigns.com/wp-content/uploads/2025/02/Dogwood-Festival-2025.jpg
END:VEVENT
END:VCALENDAR