BEGIN:VCALENDAR
VERSION:2.0
PRODID:-//Sky Blue Designs, LLC - ECPv6.15.20//NONSGML v1.0//EN
CALSCALE:GREGORIAN
METHOD:PUBLISH
X-WR-CALNAME:Sky Blue Designs, LLC
X-ORIGINAL-URL:https://www.skybluedesigns.com
X-WR-CALDESC:Events for Sky Blue Designs, LLC
REFRESH-INTERVAL;VALUE=DURATION:PT1H
X-Robots-Tag:noindex
X-PUBLISHED-TTL:PT1H
BEGIN:VTIMEZONE
TZID:America/New_York
BEGIN:DAYLIGHT
TZOFFSETFROM:-0500
TZOFFSETTO:-0400
TZNAME:EDT
DTSTART:20240310T070000
END:DAYLIGHT
BEGIN:STANDARD
TZOFFSETFROM:-0400
TZOFFSETTO:-0500
TZNAME:EST
DTSTART:20241103T060000
END:STANDARD
BEGIN:DAYLIGHT
TZOFFSETFROM:-0500
TZOFFSETTO:-0400
TZNAME:EDT
DTSTART:20250309T070000
END:DAYLIGHT
BEGIN:STANDARD
TZOFFSETFROM:-0400
TZOFFSETTO:-0500
TZNAME:EST
DTSTART:20251102T060000
END:STANDARD
BEGIN:DAYLIGHT
TZOFFSETFROM:-0500
TZOFFSETTO:-0400
TZNAME:EDT
DTSTART:20260308T070000
END:DAYLIGHT
BEGIN:STANDARD
TZOFFSETFROM:-0400
TZOFFSETTO:-0500
TZNAME:EST
DTSTART:20261101T060000
END:STANDARD
END:VTIMEZONE
BEGIN:VEVENT
DTSTART;TZID=America/New_York:20250601T100000
DTEND;TZID=America/New_York:20250601T150000
DTSTAMP:20260425T115608
CREATED:20250209T014942Z
LAST-MODIFIED:20250528T203226Z
UID:6107-1748772000-1748790000@www.skybluedesigns.com
SUMMARY:Torrington Strawberry Festival RAIN DATE
DESCRIPTION:*** The Torrington Strawberry Festival will be held on the rain date the next day\, Sunday\, June 1\, 2025 *** \nCome enjoy a day of fun\, shopping\, food\, and of course\, delicious fresh-made Strawberry Shortcake! \n​Sky Blue Designs will join more than 65 arts & craft vendors from all around Connecticut and beyond for our third year\, bringing all kinds of handmade and handcrafted products for purchase! Enjoy strawberry shortcake\, strawberry lemonade\, strawberry pie\, and other goodies. Don’t forget to visit to the Food Truck area where you can expect a collection of mouthwatering cuisine.
URL:https://www.skybluedesigns.com/event/torrington-strawberry-festival-2025/
LOCATION:Coe Memorial Park\, 101 Litchfield St.\, Torrington\, CT\, 06790
CATEGORIES:Outdoor Festival
ATTACH;FMTTYPE=image/png:https://www.skybluedesigns.com/wp-content/uploads/2025/02/Saturday-June-3.png
END:VEVENT
END:VCALENDAR